BEGIN:VCALENDAR
VERSION:2.0
PRODID:-//Klub Inteligencji Katolickiej - ECPv4.6.22.1//NONSGML v1.0//EN
CALSCALE:GREGORIAN
METHOD:PUBLISH
X-WR-CALNAME:Klub Inteligencji Katolickiej
X-ORIGINAL-URL:https://kik.poznan.pl
X-WR-CALDESC:Events for Klub Inteligencji Katolickiej
BEGIN:VEVENT
DTSTART;TZID=Europe/Warsaw:20220510T173000
DTEND;TZID=Europe/Warsaw:20220510T193000
DTSTAMP:20260424T043344
CREATED:20220420T143752Z
LAST-MODIFIED:20220420T143924Z
UID:866-1652203800-1652211000@kik.poznan.pl
SUMMARY:Sekcja Misjologiczna
DESCRIPTION:Spotkanie sekcji Misjologicznej w siedzibie KIKu przy ul. Klin 9. \n
URL:https://kik.poznan.pl/event/sekcja-misjologiczna/
LOCATION:Klub\, Klin 9\, ptr. I\, Poznań\, Polska
END:VEVENT
END:VCALENDAR