BEGIN:VCALENDAR
VERSION:2.0
PRODID:-//Klub Inteligencji Katolickiej - ECPv4.6.22.1//NONSGML v1.0//EN
CALSCALE:GREGORIAN
METHOD:PUBLISH
X-WR-CALNAME:Klub Inteligencji Katolickiej
X-ORIGINAL-URL:https://kik.poznan.pl
X-WR-CALDESC:Events for Klub Inteligencji Katolickiej
BEGIN:VEVENT
DTSTART;TZID=Europe/Warsaw:20221011T180000
DTEND;TZID=Europe/Warsaw:20221011T190000
DTSTAMP:20260424T043504
CREATED:20221010T125907Z
LAST-MODIFIED:20221010T125907Z
UID:877-1665511200-1665514800@kik.poznan.pl
SUMMARY:Sekcja Misjologiczna
DESCRIPTION:Spotkanie sekcji Misjologicznej w siedzibie klubu ul. Klin 9 w dniu 11 października godz. 18:00. \n
URL:https://kik.poznan.pl/event/sekcja-misjologiczna-2/
LOCATION:Klub\, Klin 9\, ptr. I\, Poznań\, Polska
END:VEVENT
END:VCALENDAR