BEGIN:VCALENDAR
VERSION:2.0
PRODID:-//Klub Inteligencji Katolickiej - ECPv4.6.22.1//NONSGML v1.0//EN
CALSCALE:GREGORIAN
METHOD:PUBLISH
X-WR-CALNAME:Klub Inteligencji Katolickiej
X-ORIGINAL-URL:https://kik.poznan.pl
X-WR-CALDESC:Events for Klub Inteligencji Katolickiej
BEGIN:VEVENT
DTSTART;VALUE=DATE:20200522
DTEND;VALUE=DATE:20200523
DTSTAMP:20260423T102405
CREATED:20200521T093308Z
LAST-MODIFIED:20200521T095119Z
UID:660-1590105600-1590105600@kik.poznan.pl
SUMMARY:ś.p. Maria Ciemniewska
DESCRIPTION:Z żalem i smutkiem przyjęliśmy wiadomość o śmierci w dniu 17 maja 2020 r. \nś+p \n dr inż. Marii Ciemniewskiej \nOd ponad 50-ciu lat aktywnie uczestniczącej \nw życiu Klubu Inteligencji Katolickiej w Poznaniu\, \na w latach 1991-1997 sekretarza Zarządu Klubu. \nRodzinie Zmarłej  \nwyrazy głębokiego współczucia składają \nZarząd i Społeczność  \nKlubu Inteligencji Katolickiej w Poznaniu  \n________________________________ \nUroczystości pogrzebowe odbędą się w piątek\, 22.05.2020 r.\, w Poznaniu. \nMsza święta o godz. 10:30\, w kościele pw. św. Jana Vianneya przy ul. Podlaskiej. \nPogrzeb o godz. 12:30\, na Cmentarzu Komunalnym Junikowo przy ul. Cmentarnej \n
URL:https://kik.poznan.pl/event/s-p-maria-ciemniewska/
END:VEVENT
END:VCALENDAR