BEGIN:VCALENDAR
VERSION:2.0
PRODID:-//Klub Inteligencji Katolickiej - ECPv4.6.22.1//NONSGML v1.0//EN
CALSCALE:GREGORIAN
METHOD:PUBLISH
X-WR-CALNAME:Klub Inteligencji Katolickiej
X-ORIGINAL-URL:https://kik.poznan.pl
X-WR-CALDESC:Events for Klub Inteligencji Katolickiej
BEGIN:VEVENT
DTSTART;VALUE=DATE:20220401
DTEND;VALUE=DATE:20220404
DTSTAMP:20260424T062346
CREATED:20220124T131139Z
LAST-MODIFIED:20220317T123811Z
UID:790-1648771200-1649030399@kik.poznan.pl
SUMMARY:Rekolekcje Wielkopostne
DESCRIPTION:W dniach 1-3 kwietnia 2022 r. w siedzibie Klubu przy ul. Klin 9 zostaną odprawione Rekolekcje Wielkopostne\, które poprowadzi ks. Bartłomiej Dolata. Msze św. z nauką rekolekcyjną zostaną odprawione w piątek i sobotę o godz. 18:00 a w niedzielę o godz. 11:00. Serdecznie zapraszamy do licznego udziału w rekolekcjach. \n
URL:https://kik.poznan.pl/event/rekolekcje-wielkopostne/
LOCATION:Klub\, Klin 9\, ptr. I\, Poznań\, Polska
END:VEVENT
END:VCALENDAR