BEGIN:VCALENDAR
VERSION:2.0
PRODID:-//Klub Inteligencji Katolickiej - ECPv4.6.22.1//NONSGML v1.0//EN
CALSCALE:GREGORIAN
METHOD:PUBLISH
X-WR-CALNAME:Klub Inteligencji Katolickiej
X-ORIGINAL-URL:https://kik.poznan.pl
X-WR-CALDESC:Events for Klub Inteligencji Katolickiej
BEGIN:VEVENT
DTSTART;TZID=Europe/Warsaw:20220524T173000
DTEND;TZID=Europe/Warsaw:20220524T183000
DTSTAMP:20260424T043614
CREATED:20220317T124348Z
LAST-MODIFIED:20220317T124633Z
UID:845-1653413400-1653417000@kik.poznan.pl
SUMMARY:Msza św. Klubowa
DESCRIPTION:Zapraszamy w dniu 24 maja o godz. 17:30 na Mszę św. Klubową\, którą odprawi ks. Prof. Adam Kalbarczyk\, w siedzibie Klubu przy ul. Klin 9 w Poznaniu. \n
URL:https://kik.poznan.pl/event/msza-sw-klubowa-6/
END:VEVENT
END:VCALENDAR