BEGIN:VCALENDAR
VERSION:2.0
PRODID:-//Klub Inteligencji Katolickiej - ECPv4.6.22.1//NONSGML v1.0//EN
CALSCALE:GREGORIAN
METHOD:PUBLISH
X-WR-CALNAME:Klub Inteligencji Katolickiej
X-ORIGINAL-URL:https://kik.poznan.pl
X-WR-CALDESC:Events for Klub Inteligencji Katolickiej
BEGIN:VEVENT
DTSTART;TZID=Europe/Warsaw:20220315T173000
DTEND;TZID=Europe/Warsaw:20220315T183000
DTSTAMP:20260424T062144
CREATED:20220124T130735Z
LAST-MODIFIED:20220124T130735Z
UID:788-1647365400-1647369000@kik.poznan.pl
SUMMARY:Msza św. Klubowa
DESCRIPTION:Msza św. Klubowa zostanie odprawiona przez ks. prof. Adama Kalbarczyka w lokalu KIK przy ul. Klin 9 o godz. 17:30. \n
URL:https://kik.poznan.pl/event/msza-sw-klubowa-5/
LOCATION:Klub\, Klin 9\, ptr. I\, Poznań\, Polska
END:VEVENT
END:VCALENDAR