BEGIN:VCALENDAR
VERSION:2.0
PRODID:-//Klub Inteligencji Katolickiej - ECPv4.6.22.1//NONSGML v1.0//EN
CALSCALE:GREGORIAN
METHOD:PUBLISH
X-WR-CALNAME:Klub Inteligencji Katolickiej
X-ORIGINAL-URL:https://kik.poznan.pl
X-WR-CALDESC:Events for Klub Inteligencji Katolickiej
BEGIN:VEVENT
DTSTART;TZID=Europe/Warsaw:20190514T080000
DTEND;TZID=Europe/Warsaw:20190514T170000
DTSTAMP:20260424T060143
CREATED:20190517T160044Z
LAST-MODIFIED:20190523T062451Z
UID:462-1557820800-1557853200@kik.poznan.pl
SUMMARY:Msza św. klubowa 17 maja godz. 18:00
DESCRIPTION:Kolejna msza św. klubowa odbędzie się tradycyjnie w kaplicy Sióstr Urszulanek URz przy ul. Spornej 6 w Poznaniu\, w piątek 17 maja o godz. 18. Bezpośrednio po mszy św. nabożeństwo Majowe. Serdecznie zapraszamy. \n
URL:https://kik.poznan.pl/event/msza-sw-klubowa-2/
END:VEVENT
END:VCALENDAR