BEGIN:VCALENDAR
VERSION:2.0
PRODID:-//Klub Inteligencji Katolickiej - ECPv4.6.22.1//NONSGML v1.0//EN
CALSCALE:GREGORIAN
METHOD:PUBLISH
X-WR-CALNAME:Klub Inteligencji Katolickiej
X-ORIGINAL-URL:https://kik.poznan.pl
X-WR-CALDESC:Events for Klub Inteligencji Katolickiej
BEGIN:VEVENT
DTSTART;TZID=Europe/Warsaw:20190915T143000
DTEND;TZID=Europe/Warsaw:20190915T170000
DTSTAMP:20260424T055503
CREATED:20190913T083240Z
LAST-MODIFIED:20190913T083240Z
UID:510-1568557800-1568566800@kik.poznan.pl
SUMMARY:Marsz dla Życia - Plac Mickiewicza godz. 14:30
DESCRIPTION:Marsz dla życia pod hasłem: Jestem Tu! \n14:30 festyn rodzinny  i finał akcji Pieluszka dla Maluszka \n15:45 Marsz dla Życia ulicami Poznania \n17:00 Msza św. w katedrze poznańskiej \n
URL:https://kik.poznan.pl/event/marsz-dla-zycia-plac-mickiewicza-godz-1430/
END:VEVENT
END:VCALENDAR