BEGIN:VCALENDAR
VERSION:2.0
PRODID:-//Klub Inteligencji Katolickiej - ECPv4.6.22.1//NONSGML v1.0//EN
CALSCALE:GREGORIAN
METHOD:PUBLISH
X-WR-CALNAME:Klub Inteligencji Katolickiej
X-ORIGINAL-URL:https://kik.poznan.pl
X-WR-CALDESC:Events for Klub Inteligencji Katolickiej
BEGIN:VEVENT
DTSTART;TZID=Europe/Warsaw:20190223T160000
DTEND;TZID=Europe/Warsaw:20190223T210000
DTSTAMP:20260424T090303
CREATED:20190124T114728Z
LAST-MODIFIED:20190124T114807Z
UID:430-1550937600-1550955600@kik.poznan.pl
SUMMARY:Bal Koła Przyjaciół Harcerstwa ZHR przy Bractwie Wędrowniczym KIK
DESCRIPTION:Koło Przyjaciół Harcerstwa ZHR działające przy Bractwie Wędrowniczym KIK organizuje XXI bal KPH\, p.n. ?Bal Poznańczyków? w 100-lecie odzyskania Niepodległości. Tegoroczny bal odbędzie się w nowym miejscu ? Domu Tramwajarza przy ul. J. Słowackiego 19/21 w Poznaniu w dniu 23 lutego 2019 r. Początek balu o godz. 16.00\, zakończenie o 21.00. Zapisy i szczegóły u Pani Krystyny Łuczak lub w sekretariacie klubu. \n
URL:https://kik.poznan.pl/event/bal-kola-przyjaciol-harcerstwa-zhr-przy-bractwie-wedrowniczym-kik/
END:VEVENT
END:VCALENDAR